BEGIN:VCALENDAR
VERSION:2.0
PRODID:-//La Fleca Digital//Massa Mare - Agenda//MULTI
CALSCALE:GREGORIAN
METHOD:PUBLISH
X-WR-CALNAME:Itinerari formatiu "Cures\, lideratge i gestió d'equips" - Sessió 1: Cures i lideratge en entitats socials
X-WR-CALDESC:Exportacio de l'esdeveniment
BEGIN:VEVENT
UID:agenda-34-20260421170000@laflecadigital
DTSTAMP:20260420T191656Z
DTSTART:20260421T150000Z
DTEND:20260421T180000Z
SUMMARY:Itinerari formatiu "Cures\, lideratge i gestió d'equips" - Sessió 1: Cures i lideratge en entitats socials
DESCRIPTION:Explorem què vol dir liderar des de les cures en equips horitzontals. Autolideratge\, lideratge compartit i sostenibilitat personal i col·lectiva.
LOCATION:Casal de Joves de Santa Agnès de Malanyanes
URL:https://ateneucoopvor.org/ca/agenda/itinerari-formatiu-cures-lideratge-gestio-equips-sessio-1-cures-lideratge-entitats-socials
END:VEVENT
END:VCALENDAR
