BEGIN:VCALENDAR
VERSION:2.0
PRODID:-//La Fleca Digital//Massa Mare - Agenda//MULTI
CALSCALE:GREGORIAN
METHOD:PUBLISH
X-WR-CALNAME:Itinerari formatiu "Cures\, lideratge i gestió d'equips" - Sessió 2: Diversitat\, tensions i presa de decisions
X-WR-CALDESC:Exportacio de l'esdeveniment
BEGIN:VEVENT
UID:agenda-35-20260428170000@laflecadigital
DTSTAMP:20260420T184826Z
DTSTART:20260428T150000Z
DTEND:20260428T180000Z
SUMMARY:Itinerari formatiu "Cures\, lideratge i gestió d'equips" - Sessió 2: Diversitat\, tensions i presa de decisions
DESCRIPTION:Eines pràctiques per abordar discrepàncies\, rols informals i conflictes habituals a les entitats socials\, transformant-los en oportunitats de participació i cohesió d’equip.A càrrec de la cooperativa L'Esberla\, SCCL.
LOCATION:Casal de Joves de Santa Agnès de Malanyanes (La Roca del Vallès)
URL:https://ateneucoopvor.org/ca/agenda/itinerari-formatiu-cures-lideratge-gestio-equips-sessio-2-diversitat-tensions-presa-decisions
END:VEVENT
END:VCALENDAR
