BEGIN:VCALENDAR
VERSION:2.0
PRODID:-//La Fleca Digital//Massa Mare - Agenda//MULTI
CALSCALE:GREGORIAN
METHOD:PUBLISH
X-WR-CALNAME:Itinerari formatiu "Cures\, lideratge i gestió d'equips" - Sessió 3: Feedback i cura dels vincles d'equip
X-WR-CALDESC:Exportacio de l'esdeveniment
BEGIN:VEVENT
UID:agenda-36-20260505170000@laflecadigital
DTSTAMP:20260420T220913Z
DTSTART:20260505T150000Z
DTEND:20260505T180000Z
SUMMARY:Itinerari formatiu "Cures\, lideratge i gestió d'equips" - Sessió 3: Feedback i cura dels vincles d'equip
DESCRIPTION:Com donar i rebre feedback sense desgastar els vincles. Pràctiques concretes per millorar la comunicació\, prevenir conflictes i cuidar els equips en el dia a dia.A càrrec de la cooperativa L'Esberla\, SCCL
LOCATION:Casal de Joves de Santa Agnès de Malanyanes (La Roca del Vallès)
URL:https://ateneucoopvor.org/ca/agenda/itinerari-formatiu-cures-lideratge-gestio-equips-sessio-3-feedback-cura-vincles-equip
END:VEVENT
END:VCALENDAR
