BEGIN:VCALENDAR
VERSION:2.0
PRODID:-//La Fleca Digital//Massa Mare - Agenda//MULTI
CALSCALE:GREGORIAN
METHOD:PUBLISH
X-WR-CALNAME:Jornada tècnica: Claus per impulsar la Compra Pública Responsable
X-WR-CALDESC:Exportacio de l'esdeveniment
BEGIN:VEVENT
UID:agenda-41-20260616100000@laflecadigital
DTSTAMP:20260420T154841Z
DTSTART:20260616T080000Z
DTEND:20260616T110000Z
SUMMARY:Jornada tècnica: Claus per impulsar la Compra Pública Responsable
DESCRIPTION:Jornada adreçada a personal tècnic i càrrecs electes de les administracions locals\, en què es presentarà l'informe executiu sobre la situació de la CPR al Vallès Oriental\, elaborat per Facto Cooperativa\, i el cercador d'entitats i projectes de l'ESS\, impulsat per l'Ateneu Cooperatiu. Durant aquesta primera part de la jornada\, els ajuntaments podran consultar els resultats de l'informe per als diferents municipis i per al global de la comarca. A la segona part de la jornada es farà una taller pràctic de capacitació en matèria de contractació pública i en el desplegament de mesures de CPR\, en el qual també es podran resoldre dubtes. Aquesta és una iniciativa impulsada per quatre dels ajuntaments del Vallès Oriental que formen part de la Xarxa de Municipis per l'Economia Social i Solidària: Sant Esteve de Palautordera\, Cardedeu\, Granollers i Montornès del Vallès\, juntament amb l'Ateneu Cooperatiu que ha liderat el procés.La jornada\, doncs\, permet mostrar els resultats de l'informe i\, alhora\, formar el personal tècnic per a un desplegament efectiu de la CPR a la nostra comarca.
LOCATION:Centre Cívic Nord (Granollers)
URL:https://ateneucoopvor.org/ca/agenda/jornada-tecnica-claus-impulsar-compra-publica-responsable
END:VEVENT
END:VCALENDAR
